BEGIN:VCALENDAR
VERSION:2.0
PRODID:-//West Houston Democrats - ECPv6.15.20//NONSGML v1.0//EN
CALSCALE:GREGORIAN
METHOD:PUBLISH
X-WR-CALNAME:West Houston Democrats
X-ORIGINAL-URL:https://westhoustondemocrats.com
X-WR-CALDESC:Events for West Houston Democrats
REFRESH-INTERVAL;VALUE=DURATION:PT1H
X-Robots-Tag:noindex
X-PUBLISHED-TTL:PT1H
BEGIN:VTIMEZONE
TZID:America/Chicago
BEGIN:DAYLIGHT
TZOFFSETFROM:-0600
TZOFFSETTO:-0500
TZNAME:CDT
DTSTART:20170312T080000
END:DAYLIGHT
BEGIN:STANDARD
TZOFFSETFROM:-0500
TZOFFSETTO:-0600
TZNAME:CST
DTSTART:20171105T070000
END:STANDARD
BEGIN:DAYLIGHT
TZOFFSETFROM:-0600
TZOFFSETTO:-0500
TZNAME:CDT
DTSTART:20180311T080000
END:DAYLIGHT
BEGIN:STANDARD
TZOFFSETFROM:-0500
TZOFFSETTO:-0600
TZNAME:CST
DTSTART:20181104T070000
END:STANDARD
BEGIN:DAYLIGHT
TZOFFSETFROM:-0600
TZOFFSETTO:-0500
TZNAME:CDT
DTSTART:20190310T080000
END:DAYLIGHT
BEGIN:STANDARD
TZOFFSETFROM:-0500
TZOFFSETTO:-0600
TZNAME:CST
DTSTART:20191103T070000
END:STANDARD
END:VTIMEZONE
BEGIN:VEVENT
DTSTART;TZID=America/Chicago:20181010T193000
DTEND;TZID=America/Chicago:20181010T210000
DTSTAMP:20260421T071050
CREATED:20180927T190208Z
LAST-MODIFIED:20180927T201453Z
UID:359-1539199800-1539205200@westhoustondemocrats.com
SUMMARY:West Houston Democrats Meeting
DESCRIPTION:Our monthly meetings are always jam packed\, fun\, and informative!  We’ll announce this months speakers shortly.  But  put this on your calendar and plan on joining us. Come early and eat.  Fadi’s offers our group a 10% discount and complimentary soft drinks.
URL:https://westhoustondemocrats.com/event/west-houston-democrats-meeting/
LOCATION:Fadi’s Mediterranean Grill\, 12360 Westheimer Rd\, Houston\, 77077\, United States
CATEGORIES:Candidate Meet & Greet,Monthly Meeting
ORGANIZER;CN="Jeff Hilton":MAILTO:jeffh@westhoustondemocrats.com
END:VEVENT
BEGIN:VEVENT
DTSTART;VALUE=DATE:20181009
DTEND;VALUE=DATE:20181010
DTSTAMP:20260421T071050
CREATED:20180508T214308Z
LAST-MODIFIED:20180927T201356Z
UID:89-1539043200-1539129599@westhoustondemocrats.com
SUMMARY:Last day to register to vote
DESCRIPTION:
URL:https://westhoustondemocrats.com/event/last-day-to-register-to-vote/
CATEGORIES:Voter Registration
END:VEVENT
BEGIN:VEVENT
DTSTART;TZID=America/Chicago:20181008T000000
DTEND;TZID=America/Chicago:20181101T000000
DTSTAMP:20260421T071050
CREATED:20180927T190207Z
LAST-MODIFIED:20180927T194020Z
UID:358-1538956800-1541030400@westhoustondemocrats.com
SUMMARY:Be an Election Judge
DESCRIPTION:Precinct Chairs have the first right of refusal to serve as Election Judge in your Precinct.  Each location has two judges\, Presiding and Alternate\, one from each party.  This is a very important job — making sure everything runs smoothly on election day.  You must attend training\, election Day itself is long (6 am to 8 pm or later)\, and you will not be available to use the day for last-minute getting out the vote activities.  If interested\, reach out to Giordaun (giordaun@harrisdemocrats.com).  Send you name\, address\, Voter Unique Identification # (VUID)\, and cell phone #.
URL:https://westhoustondemocrats.com/event/be-an-election-judge/
CATEGORIES:Election Judge Training
ORGANIZER;CN="Giordaun Baity":MAILTO:giordaun@harrisdemocrats.com
END:VEVENT
BEGIN:VEVENT
DTSTART;TZID=America/Chicago:20181004T180000
DTEND;TZID=America/Chicago:20181004T200000
DTSTAMP:20260421T071050
CREATED:20180927T190206Z
LAST-MODIFIED:20180927T194020Z
UID:357-1538676000-1538683200@westhoustondemocrats.com
SUMMARY:Get Out the Vote workshop
DESCRIPTION:This Get Out the Vote workshop\, will discuss key topics including: Lists — finding your targets in VAN\, Lit — what to hand your voters\, and Lips — talking points.   Come with questions and any materials you might want to share. Wine and light bites will be provided; come straight from work\, school\, or wherever.
URL:https://westhoustondemocrats.com/event/get-out-the-vote-workshop/
CATEGORIES:Training
ORGANIZER;CN="Aliza Geretz":MAILTO:alizager@gmail.com
END:VEVENT
BEGIN:VEVENT
DTSTART;TZID=America/Chicago:20181001T183000
DTEND;TZID=America/Chicago:20181001T183000
DTSTAMP:20260421T071050
CREATED:20180927T190206Z
LAST-MODIFIED:20180927T194020Z
UID:356-1538418600-1538418600@westhoustondemocrats.com
SUMMARY:Voter Registrar (VDVR) Training - LAST ONE for 2018!
DESCRIPTION:RSVP no later than 48 hours in advance to receive your certificate of appointment on the same day of the VDVR training. If no RSVP is submitted\, you can still attend and receive your certificate of appointment by mail within 10 business days after completion.
URL:https://westhoustondemocrats.com/event/voter-registrar-vdvr-training-last-one-for-2018/
LOCATION:Harris County Administration Building\, 1001 Preston Street\, Houston\, 77002\, United States
CATEGORIES:Training
END:VEVENT
BEGIN:VEVENT
DTSTART;TZID=America/Chicago:20180930T180000
DTEND;TZID=America/Chicago:20180930T190000
DTSTAMP:20260421T071050
CREATED:20180927T190206Z
LAST-MODIFIED:20180927T194020Z
UID:355-1538330400-1538334000@westhoustondemocrats.com
SUMMARY:Beto Cruz Debate #2
DESCRIPTION:
URL:https://westhoustondemocrats.com/event/beto-cruz-debate-2/
CATEGORIES:Debate
END:VEVENT
BEGIN:VEVENT
DTSTART;TZID=America/Chicago:20180930T173000
DTEND;TZID=America/Chicago:20180930T193000
DTSTAMP:20260421T071050
CREATED:20180927T190205Z
LAST-MODIFIED:20180927T194019Z
UID:354-1538328600-1538335800@westhoustondemocrats.com
SUMMARY:Beto Cruz Debate #2 -  Watch Party
DESCRIPTION:
URL:https://westhoustondemocrats.com/event/beto-cruz-debate-2-watch-party/
CATEGORIES:Watch Party
END:VEVENT
BEGIN:VEVENT
DTSTART;TZID=America/Chicago:20180929T110000
DTEND;TZID=America/Chicago:20180929T130000
DTSTAMP:20260421T071050
CREATED:20180927T190202Z
LAST-MODIFIED:20180927T194017Z
UID:352-1538218800-1538226000@westhoustondemocrats.com
SUMMARY:Texas Democratic Party Westchase Office Grand Opening
DESCRIPTION:The Texas Democrat Party is opening an office right in the middle of our club’s geography!  Join in the grand Opening with Lizzie Fletcher and others for this fun event!
URL:https://westhoustondemocrats.com/event/texas-democratic-party-westchase-office-grand-opening-2/
LOCATION:Texas Democrat Party Westheimer Field Office\, 10535 Westheimer Rd\, Houston\, 77042-3502\, United States
CATEGORIES:Grand Opening
END:VEVENT
BEGIN:VEVENT
DTSTART;TZID=America/Chicago:20180929T110000
DTEND;TZID=America/Chicago:20180929T110000
DTSTAMP:20260421T071050
CREATED:20180927T190202Z
LAST-MODIFIED:20180927T194017Z
UID:353-1538218800-1538218800@westhoustondemocrats.com
SUMMARY:VDVR (Voter Registrar) Training
DESCRIPTION:RSVP no later than 48 hours in advance to receive your certificate of appointment on the same day of the VDVR training. If no RSVP is submitted\, you can still attend and receive your certificate of appointment by mail within 10 business days after completion.
URL:https://westhoustondemocrats.com/event/vdvr-voter-registrar-training/
LOCATION:Harris County Administration Building\, 1001 Preston Street\, Houston\, 77002\, United States
CATEGORIES:Training
END:VEVENT
BEGIN:VEVENT
DTSTART;TZID=America/Chicago:20180929T100000
DTEND;TZID=America/Chicago:20180929T110000
DTSTAMP:20260421T071050
CREATED:20180927T190202Z
LAST-MODIFIED:20180927T194016Z
UID:351-1538215200-1538218800@westhoustondemocrats.com
SUMMARY:Texas Democratic Party Westchase Office Grand Opening
DESCRIPTION:The Texas Democrat Party is opening an office right in the middle of our club’s geography!  Join in the grand Opening with Lizzie Fletcher and others for this fun event!
URL:https://westhoustondemocrats.com/event/texas-democratic-party-westchase-office-grand-opening/
LOCATION:Texas Democrat Party Westheimer Field Office\, 10535 Westheimer Rd\, Houston\, 77042-3502\, United States
CATEGORIES:Grand Opening
END:VEVENT
BEGIN:VEVENT
DTSTART;TZID=America/Chicago:20180927T100000
DTEND;TZID=America/Chicago:20181008T160000
DTSTAMP:20260421T071050
CREATED:20180927T190201Z
LAST-MODIFIED:20180927T194016Z
UID:350-1538042400-1539014400@westhoustondemocrats.com
SUMMARY:#ProjectOrange Voter Registration Data Entry
DESCRIPTION:Volunteers needed to enter data into a Google form ANYTIME BETWEEN THE HOURS OF 10 am and 4 pm on the dates indicated in the sign-up link.
URL:https://westhoustondemocrats.com/event/projectorange-voter-registration-data-entry/
LOCATION:Kinghill Residence\, 11315 Wickersham Lane\, Houston\, 77077\, United States
CATEGORIES:Data Entry
ORGANIZER;CN="Tina Kingshill":MAILTO:TinaKingshill@gmail.com
END:VEVENT
BEGIN:VEVENT
DTSTART;TZID=America/Chicago:20180926T000000
DTEND;TZID=America/Chicago:20181009T000000
DTSTAMP:20260421T071050
CREATED:20180927T190201Z
LAST-MODIFIED:20180927T201151Z
UID:349-1537920000-1539043200@westhoustondemocrats.com
SUMMARY:Register to vote
DESCRIPTION:
URL:https://westhoustondemocrats.com/event/register-to-vote/
CATEGORIES:Voter Registration
END:VEVENT
BEGIN:VEVENT
DTSTART;TZID=America/Chicago:20180712T193000
DTEND;TZID=America/Chicago:20180712T210000
DTSTAMP:20260421T071050
CREATED:20180712T030427Z
LAST-MODIFIED:20180712T035442Z
UID:274-1531423800-1531429200@westhoustondemocrats.com
SUMMARY:Kickoff Happy Hour
DESCRIPTION:
URL:https://westhoustondemocrats.com/event/kickoff-happy-hour/
LOCATION:Harolds Gastrobar\, 13525 Westheimer Rd\, Houston\, TX\, 77077\, United States
CATEGORIES:Kickoff Event
ATTACH;FMTTYPE=image/jpeg:https://westhoustondemocrats.com/wp-content/uploads/2018/07/Kickoff-at-Harolds-sm.jpg
ORGANIZER;CN="West Houston Democrats":MAILTO:info@westhoustondemocrats.com
END:VEVENT
END:VCALENDAR